BEGIN:VCALENDAR
VERSION:2.0
PRODID:-//Drupal iCal API//EN
X-WR-TIMEZONE:America/Vancouver
BEGIN:VTIMEZONE
TZID:America/Vancouver
X-LIC-LOCATION:America/Vancouver
BEGIN:DAYLIGHT
TZNAME:PDT
TZOFFSETFROM:-0800
TZOFFSETTO:-0700
DTSTART:20260308T100000
END:DAYLIGHT
BEGIN:DAYLIGHT
TZNAME:PDT
TZOFFSETFROM:-0800
TZOFFSETTO:-0700
DTSTART:20250309T100000
END:DAYLIGHT
BEGIN:STANDARD
TZNAME:PST
TZOFFSETFROM:-0700
TZOFFSETTO:-0800
DTSTART:20251102T090000
END:STANDARD
BEGIN:STANDARD
TZNAME:PST
TZOFFSETFROM:-0700
TZOFFSETTO:-0800
DTSTART:20241103T090000
END:STANDARD
END:VTIMEZONE
BEGIN:VEVENT
UID:69e616ed41e96
DTSTART;VALUE=DATE:20260313
SEQUENCE:0
TRANSP:TRANSPARENT
DTEND;VALUE=DATE:20260421
URL:https://clayburn.abbyschools.ca/events/summer-explorers-gr-k-8-registra
 tion-2026
SUMMARY:SUMMER EXPLORERS GR. K-8 REGISTRATION 2026\n\n
CLASS:PUBLIC
X-MICROSOFT-CDO-ALLDAYEVENT:TRUE
DTSTAMP:20260420T120709Z
END:VEVENT
BEGIN:VEVENT
UID:69e616ed45743
DTSTART;TZID=America/Vancouver:20260402T173000
SEQUENCE:0
TRANSP:TRANSPARENT
DTEND;TZID=America/Vancouver:20260402T183000
URL:https://clayburn.abbyschools.ca/events/public-budget-information-night
SUMMARY:PUBLIC BUDGET INFORMATION NIGHT\n\n
CLASS:PUBLIC
DTSTAMP:20260420T120709Z
END:VEVENT
BEGIN:VEVENT
UID:69e616ed47085
DTSTART;TZID=America/Vancouver:20260511T190000
SEQUENCE:0
TRANSP:TRANSPARENT
DTEND;TZID=America/Vancouver:20260511T210000
URL:https://clayburn.abbyschools.ca/events/exploring-feel-better-dr-shahana
 -alibhai
SUMMARY:EXPLORING \"FEEL BETTER\" WITH DR. SHAHANA ALIBHAI\n\n
CLASS:PUBLIC
DTSTAMP:20260420T120709Z
END:VEVENT
BEGIN:VEVENT
UID:69e616ed484e3
DTSTART;TZID=America/Vancouver:20260408T183000
SEQUENCE:0
TRANSP:TRANSPARENT
DTEND;TZID=America/Vancouver:20260408T210000
URL:https://clayburn.abbyschools.ca/events/study-smarter-not-harder-your-br
 ain-mind-terry-small
SUMMARY:\"STUDY SMARTER\, NOT HARDER… WITH YOUR BRAIN IN MIND” - TERRY 
 SMALL\n\n
CLASS:PUBLIC
DTSTAMP:20260420T120709Z
END:VEVENT
BEGIN:VEVENT
UID:69e616ed49c90
DTSTART;TZID=America/Vancouver:20260223T190000
SEQUENCE:0
TRANSP:TRANSPARENT
DTEND;TZID=America/Vancouver:20260223T210000
URL:https://clayburn.abbyschools.ca/events/bullying-new-approach-enduring-p
 roblem-deborah-macnamara
SUMMARY:\"BULLYING - A NEW APPROACH TO AN ENDURING PROBLEM\" - DEBORAH MACN
 AMARA\n\n
CLASS:PUBLIC
DTSTAMP:20260420T120709Z
END:VEVENT
BEGIN:VEVENT
UID:69e616ed4b829
DTSTART;TZID=America/Vancouver:20260519T190000
SEQUENCE:0
TRANSP:TRANSPARENT
DTEND;TZID=America/Vancouver:20260519T200000
URL:https://clayburn.abbyschools.ca/events/cbm-agm-pac-meeting
SUMMARY:CBM AGM PAC MEETING\n\n
CLASS:PUBLIC
DTSTAMP:20260420T120709Z
END:VEVENT
BEGIN:VEVENT
UID:69e616ed4d59e
DTSTART;TZID=America/Vancouver:20260421T190000
SEQUENCE:0
TRANSP:TRANSPARENT
DTEND;TZID=America/Vancouver:20260421T200000
URL:https://clayburn.abbyschools.ca/events/cbm-pac-meeting-4
SUMMARY:CBM PAC MEETING\n\n
CLASS:PUBLIC
DTSTAMP:20260420T120709Z
END:VEVENT
BEGIN:VEVENT
UID:69e616ed4f2a2
DTSTART;VALUE=DATE:20260626
SEQUENCE:0
TRANSP:TRANSPARENT
DTEND;VALUE=DATE:20260627
URL:https://clayburn.abbyschools.ca/events/last-day-teachers-1
SUMMARY:LAST DAY FOR TEACHERS\n\n
CLASS:PUBLIC
X-MICROSOFT-CDO-ALLDAYEVENT:TRUE
DTSTAMP:20260420T120709Z
END:VEVENT
BEGIN:VEVENT
UID:69e616ed50ed5
DTSTART;VALUE=DATE:20260625
SEQUENCE:0
TRANSP:TRANSPARENT
DTEND;VALUE=DATE:20260626
URL:https://clayburn.abbyschools.ca/events/last-day-students-1
SUMMARY:LAST DAY FOR STUDENTS\n\n
CLASS:PUBLIC
X-MICROSOFT-CDO-ALLDAYEVENT:TRUE
DTSTAMP:20260420T120709Z
END:VEVENT
BEGIN:VEVENT
UID:69e616ed529d7
DTSTART;VALUE=DATE:20260316
SEQUENCE:0
TRANSP:TRANSPARENT
DTEND;VALUE=DATE:20260328
URL:https://clayburn.abbyschools.ca/events/spring-break-4
SUMMARY:SPRING BREAK\n\n
CLASS:PUBLIC
X-MICROSOFT-CDO-ALLDAYEVENT:TRUE
DTSTAMP:20260420T120709Z
END:VEVENT
BEGIN:VEVENT
UID:69e616ed54950
DTSTART;VALUE=DATE:20251217
SEQUENCE:0
TRANSP:TRANSPARENT
DTEND;VALUE=DATE:20251218
URL:https://clayburn.abbyschools.ca/events/report-cards-elemmiddle-levels-3
SUMMARY:REPORT CARDS ELEM/MIDDLE LEVELS\n\n
CLASS:PUBLIC
X-MICROSOFT-CDO-ALLDAYEVENT:TRUE
DTSTAMP:20260420T120709Z
END:VEVENT
BEGIN:VEVENT
UID:69e616ed56963
DTSTART;VALUE=DATE:20260313
SEQUENCE:0
TRANSP:TRANSPARENT
DTEND;VALUE=DATE:20260314
URL:https://clayburn.abbyschools.ca/events/report-cards-elemmiddle-levels-3
SUMMARY:REPORT CARDS ELEM/MIDDLE LEVELS\n\n
CLASS:PUBLIC
X-MICROSOFT-CDO-ALLDAYEVENT:TRUE
DTSTAMP:20260420T120709Z
END:VEVENT
BEGIN:VEVENT
UID:69e616ed58429
DTSTART;VALUE=DATE:20260625
SEQUENCE:0
TRANSP:TRANSPARENT
DTEND;VALUE=DATE:20260626
URL:https://clayburn.abbyschools.ca/events/report-cards-elemmiddle-levels-3
SUMMARY:REPORT CARDS ELEM/MIDDLE LEVELS\n\n
CLASS:PUBLIC
X-MICROSOFT-CDO-ALLDAYEVENT:TRUE
DTSTAMP:20260420T120709Z
END:VEVENT
BEGIN:VEVENT
UID:69e616ed5a0fb
DTSTART;VALUE=DATE:20251217
SEQUENCE:0
TRANSP:TRANSPARENT
DTEND;VALUE=DATE:20251218
URL:https://clayburn.abbyschools.ca/events/report-cards-elemmiddle-levels-3
SUMMARY:REPORT CARDS ELEM/MIDDLE LEVELS\n\n
CLASS:PUBLIC
X-MICROSOFT-CDO-ALLDAYEVENT:TRUE
DTSTAMP:20260420T120709Z
END:VEVENT
BEGIN:VEVENT
UID:69e616ed5c250
DTSTART;VALUE=DATE:20260313
SEQUENCE:0
TRANSP:TRANSPARENT
DTEND;VALUE=DATE:20260314
URL:https://clayburn.abbyschools.ca/events/report-cards-elemmiddle-levels-3
SUMMARY:REPORT CARDS ELEM/MIDDLE LEVELS\n\n
CLASS:PUBLIC
X-MICROSOFT-CDO-ALLDAYEVENT:TRUE
DTSTAMP:20260420T120709Z
END:VEVENT
BEGIN:VEVENT
UID:69e616ed5deec
DTSTART;VALUE=DATE:20260625
SEQUENCE:0
TRANSP:TRANSPARENT
DTEND;VALUE=DATE:20260626
URL:https://clayburn.abbyschools.ca/events/report-cards-elemmiddle-levels-3
SUMMARY:REPORT CARDS ELEM/MIDDLE LEVELS\n\n
CLASS:PUBLIC
X-MICROSOFT-CDO-ALLDAYEVENT:TRUE
DTSTAMP:20260420T120709Z
END:VEVENT
BEGIN:VEVENT
UID:69e616ed601e3
DTSTART;VALUE=DATE:20260515
SEQUENCE:0
TRANSP:TRANSPARENT
DTEND;VALUE=DATE:20260516
URL:https://clayburn.abbyschools.ca/events/non-instructional-day-17
SUMMARY:NON-INSTRUCTIONAL DAY\n\n
CLASS:PUBLIC
X-MICROSOFT-CDO-ALLDAYEVENT:TRUE
DTSTAMP:20260420T120709Z
END:VEVENT
BEGIN:VEVENT
UID:69e616ed623e9
DTSTART;VALUE=DATE:20260424
SEQUENCE:0
TRANSP:TRANSPARENT
DTEND;VALUE=DATE:20260425
URL:https://clayburn.abbyschools.ca/events/non-instructional-day-16
SUMMARY:NON-INSTRUCTIONAL DAY\n\n
CLASS:PUBLIC
X-MICROSOFT-CDO-ALLDAYEVENT:TRUE
DTSTAMP:20260420T120709Z
END:VEVENT
BEGIN:VEVENT
UID:69e616ed648a4
DTSTART;TZID=America/Vancouver:20250925T190000
SEQUENCE:0
TRANSP:TRANSPARENT
DTEND;TZID=America/Vancouver:20250925T200000
URL:https://clayburn.abbyschools.ca/events/dpac-meeting-7
SUMMARY:DPAC MEETING\n\n
CLASS:PUBLIC
DTSTAMP:20260420T120709Z
END:VEVENT
BEGIN:VEVENT
UID:69e616ed665d3
DTSTART;TZID=America/Vancouver:20251023T190000
SEQUENCE:0
TRANSP:TRANSPARENT
DTEND;TZID=America/Vancouver:20251023T190000
URL:https://clayburn.abbyschools.ca/events/dpac-meeting-7
SUMMARY:DPAC MEETING\n\n
CLASS:PUBLIC
DTSTAMP:20260420T120709Z
END:VEVENT
BEGIN:VEVENT
UID:69e616ed67cc0
DTSTART;TZID=America/Vancouver:20251127T190000
SEQUENCE:0
TRANSP:TRANSPARENT
DTEND;TZID=America/Vancouver:20251127T190000
URL:https://clayburn.abbyschools.ca/events/dpac-meeting-7
SUMMARY:DPAC MEETING\n\n
CLASS:PUBLIC
DTSTAMP:20260420T120709Z
END:VEVENT
BEGIN:VEVENT
UID:69e616ed695ab
DTSTART;TZID=America/Vancouver:20260122T190000
SEQUENCE:0
TRANSP:TRANSPARENT
DTEND;TZID=America/Vancouver:20260122T200000
URL:https://clayburn.abbyschools.ca/events/dpac-meeting-7
SUMMARY:DPAC MEETING\n\n
CLASS:PUBLIC
DTSTAMP:20260420T120709Z
END:VEVENT
BEGIN:VEVENT
UID:69e616ed6ac2e
DTSTART;TZID=America/Vancouver:20260226T190000
SEQUENCE:0
TRANSP:TRANSPARENT
DTEND;TZID=America/Vancouver:20260226T190000
URL:https://clayburn.abbyschools.ca/events/dpac-meeting-7
SUMMARY:DPAC MEETING\n\n
CLASS:PUBLIC
DTSTAMP:20260420T120709Z
END:VEVENT
BEGIN:VEVENT
UID:69e616ed6c190
DTSTART;TZID=America/Vancouver:20260423T190000
SEQUENCE:0
TRANSP:TRANSPARENT
DTEND;TZID=America/Vancouver:20260423T190000
URL:https://clayburn.abbyschools.ca/events/dpac-meeting-7
SUMMARY:DPAC MEETING\n\n
CLASS:PUBLIC
DTSTAMP:20260420T120709Z
END:VEVENT
BEGIN:VEVENT
UID:69e616ed6d4cb
DTSTART;TZID=America/Vancouver:20260528T190000
SEQUENCE:0
TRANSP:TRANSPARENT
DTEND;TZID=America/Vancouver:20260528T190000
URL:https://clayburn.abbyschools.ca/events/dpac-meeting-7
SUMMARY:DPAC MEETING\n\n
CLASS:PUBLIC
DTSTAMP:20260420T120709Z
END:VEVENT
BEGIN:VEVENT
UID:69e616ed6ee94
DTSTART;TZID=America/Vancouver:20250925T190000
SEQUENCE:0
TRANSP:TRANSPARENT
DTEND;TZID=America/Vancouver:20250925T200000
URL:https://clayburn.abbyschools.ca/events/dpac-meeting-7
SUMMARY:DPAC MEETING\n\n
CLASS:PUBLIC
DTSTAMP:20260420T120709Z
END:VEVENT
BEGIN:VEVENT
UID:69e616ed70a1b
DTSTART;TZID=America/Vancouver:20251023T190000
SEQUENCE:0
TRANSP:TRANSPARENT
DTEND;TZID=America/Vancouver:20251023T190000
URL:https://clayburn.abbyschools.ca/events/dpac-meeting-7
SUMMARY:DPAC MEETING\n\n
CLASS:PUBLIC
DTSTAMP:20260420T120709Z
END:VEVENT
BEGIN:VEVENT
UID:69e616ed72637
DTSTART;TZID=America/Vancouver:20251127T190000
SEQUENCE:0
TRANSP:TRANSPARENT
DTEND;TZID=America/Vancouver:20251127T190000
URL:https://clayburn.abbyschools.ca/events/dpac-meeting-7
SUMMARY:DPAC MEETING\n\n
CLASS:PUBLIC
DTSTAMP:20260420T120709Z
END:VEVENT
BEGIN:VEVENT
UID:69e616ed74a72
DTSTART;TZID=America/Vancouver:20260122T190000
SEQUENCE:0
TRANSP:TRANSPARENT
DTEND;TZID=America/Vancouver:20260122T200000
URL:https://clayburn.abbyschools.ca/events/dpac-meeting-7
SUMMARY:DPAC MEETING\n\n
CLASS:PUBLIC
DTSTAMP:20260420T120709Z
END:VEVENT
BEGIN:VEVENT
UID:69e616ed768fa
DTSTART;TZID=America/Vancouver:20260226T190000
SEQUENCE:0
TRANSP:TRANSPARENT
DTEND;TZID=America/Vancouver:20260226T190000
URL:https://clayburn.abbyschools.ca/events/dpac-meeting-7
SUMMARY:DPAC MEETING\n\n
CLASS:PUBLIC
DTSTAMP:20260420T120709Z
END:VEVENT
BEGIN:VEVENT
UID:69e616ed78800
DTSTART;TZID=America/Vancouver:20260423T190000
SEQUENCE:0
TRANSP:TRANSPARENT
DTEND;TZID=America/Vancouver:20260423T190000
URL:https://clayburn.abbyschools.ca/events/dpac-meeting-7
SUMMARY:DPAC MEETING\n\n
CLASS:PUBLIC
DTSTAMP:20260420T120709Z
END:VEVENT
BEGIN:VEVENT
UID:69e616ed7b4d3
DTSTART;TZID=America/Vancouver:20260528T190000
SEQUENCE:0
TRANSP:TRANSPARENT
DTEND;TZID=America/Vancouver:20260528T190000
URL:https://clayburn.abbyschools.ca/events/dpac-meeting-7
SUMMARY:DPAC MEETING\n\n
CLASS:PUBLIC
DTSTAMP:20260420T120709Z
END:VEVENT
BEGIN:VEVENT
UID:69e616ed7d128
DTSTART;TZID=America/Vancouver:20250925T190000
SEQUENCE:0
TRANSP:TRANSPARENT
DTEND;TZID=America/Vancouver:20250925T200000
URL:https://clayburn.abbyschools.ca/events/dpac-meeting-7
SUMMARY:DPAC MEETING\n\n
CLASS:PUBLIC
DTSTAMP:20260420T120709Z
END:VEVENT
BEGIN:VEVENT
UID:69e616ed7f212
DTSTART;TZID=America/Vancouver:20251023T190000
SEQUENCE:0
TRANSP:TRANSPARENT
DTEND;TZID=America/Vancouver:20251023T190000
URL:https://clayburn.abbyschools.ca/events/dpac-meeting-7
SUMMARY:DPAC MEETING\n\n
CLASS:PUBLIC
DTSTAMP:20260420T120709Z
END:VEVENT
BEGIN:VEVENT
UID:69e616ed807dc
DTSTART;TZID=America/Vancouver:20251127T190000
SEQUENCE:0
TRANSP:TRANSPARENT
DTEND;TZID=America/Vancouver:20251127T190000
URL:https://clayburn.abbyschools.ca/events/dpac-meeting-7
SUMMARY:DPAC MEETING\n\n
CLASS:PUBLIC
DTSTAMP:20260420T120709Z
END:VEVENT
BEGIN:VEVENT
UID:69e616ed82b66
DTSTART;TZID=America/Vancouver:20260122T190000
SEQUENCE:0
TRANSP:TRANSPARENT
DTEND;TZID=America/Vancouver:20260122T200000
URL:https://clayburn.abbyschools.ca/events/dpac-meeting-7
SUMMARY:DPAC MEETING\n\n
CLASS:PUBLIC
DTSTAMP:20260420T120709Z
END:VEVENT
BEGIN:VEVENT
UID:69e616ed84cec
DTSTART;TZID=America/Vancouver:20260226T190000
SEQUENCE:0
TRANSP:TRANSPARENT
DTEND;TZID=America/Vancouver:20260226T190000
URL:https://clayburn.abbyschools.ca/events/dpac-meeting-7
SUMMARY:DPAC MEETING\n\n
CLASS:PUBLIC
DTSTAMP:20260420T120709Z
END:VEVENT
BEGIN:VEVENT
UID:69e616ed86855
DTSTART;TZID=America/Vancouver:20260423T190000
SEQUENCE:0
TRANSP:TRANSPARENT
DTEND;TZID=America/Vancouver:20260423T190000
URL:https://clayburn.abbyschools.ca/events/dpac-meeting-7
SUMMARY:DPAC MEETING\n\n
CLASS:PUBLIC
DTSTAMP:20260420T120709Z
END:VEVENT
BEGIN:VEVENT
UID:69e616ed883f8
DTSTART;TZID=America/Vancouver:20260528T190000
SEQUENCE:0
TRANSP:TRANSPARENT
DTEND;TZID=America/Vancouver:20260528T190000
URL:https://clayburn.abbyschools.ca/events/dpac-meeting-7
SUMMARY:DPAC MEETING\n\n
CLASS:PUBLIC
DTSTAMP:20260420T120709Z
END:VEVENT
BEGIN:VEVENT
UID:69e616ed8a4f7
DTSTART;VALUE=DATE:20260518
SEQUENCE:0
TRANSP:TRANSPARENT
DTEND;VALUE=DATE:20260519
URL:https://clayburn.abbyschools.ca/events/victoria-day-3
SUMMARY:VICTORIA DAY\n\n
CLASS:PUBLIC
X-MICROSOFT-CDO-ALLDAYEVENT:TRUE
DTSTAMP:20260420T120709Z
END:VEVENT
BEGIN:VEVENT
UID:69e616ed8d72a
DTSTART;VALUE=DATE:20260403
SEQUENCE:0
TRANSP:TRANSPARENT
DTEND;VALUE=DATE:20260407
URL:https://clayburn.abbyschools.ca/events/easter-weekend
SUMMARY:EASTER WEEKEND\n\n
CLASS:PUBLIC
X-MICROSOFT-CDO-ALLDAYEVENT:TRUE
DTSTAMP:20260420T120709Z
END:VEVENT
BEGIN:VEVENT
UID:69e616ed8f543
DTSTART;VALUE=DATE:20250701
SEQUENCE:0
TRANSP:TRANSPARENT
DTEND;VALUE=DATE:20250702
URL:https://clayburn.abbyschools.ca/events/canada-day-11
SUMMARY:CANADA DAY\n\n
CLASS:PUBLIC
X-MICROSOFT-CDO-ALLDAYEVENT:TRUE
DTSTAMP:20260420T120709Z
END:VEVENT
BEGIN:VEVENT
UID:69e616ed91031
DTSTART;VALUE=DATE:20260701
SEQUENCE:0
TRANSP:TRANSPARENT
DTEND;VALUE=DATE:20260702
URL:https://clayburn.abbyschools.ca/events/canada-day-11
SUMMARY:CANADA DAY\n\n
CLASS:PUBLIC
X-MICROSOFT-CDO-ALLDAYEVENT:TRUE
DTSTAMP:20260420T120709Z
END:VEVENT
END:VCALENDAR